BEGIN:VCALENDAR
VERSION:2.0
PRODID:-//South Texas Off Road Mountain-Bikers - ECPv6.15.20//NONSGML v1.0//EN
CALSCALE:GREGORIAN
METHOD:PUBLISH
X-ORIGINAL-URL:https://stormmtb.org
X-WR-CALDESC:Events for South Texas Off Road Mountain-Bikers
REFRESH-INTERVAL;VALUE=DURATION:PT1H
X-Robots-Tag:noindex
X-PUBLISHED-TTL:PT1H
BEGIN:VTIMEZONE
TZID:America/Chicago
BEGIN:DAYLIGHT
TZOFFSETFROM:-0600
TZOFFSETTO:-0500
TZNAME:CDT
DTSTART:20220313T080000
END:DAYLIGHT
BEGIN:STANDARD
TZOFFSETFROM:-0500
TZOFFSETTO:-0600
TZNAME:CST
DTSTART:20221106T070000
END:STANDARD
BEGIN:DAYLIGHT
TZOFFSETFROM:-0600
TZOFFSETTO:-0500
TZNAME:CDT
DTSTART:20230312T080000
END:DAYLIGHT
BEGIN:STANDARD
TZOFFSETFROM:-0500
TZOFFSETTO:-0600
TZNAME:CST
DTSTART:20231105T070000
END:STANDARD
BEGIN:DAYLIGHT
TZOFFSETFROM:-0600
TZOFFSETTO:-0500
TZNAME:CDT
DTSTART:20240310T080000
END:DAYLIGHT
BEGIN:STANDARD
TZOFFSETFROM:-0500
TZOFFSETTO:-0600
TZNAME:CST
DTSTART:20241103T070000
END:STANDARD
BEGIN:DAYLIGHT
TZOFFSETFROM:-0600
TZOFFSETTO:-0500
TZNAME:CDT
DTSTART:20250309T080000
END:DAYLIGHT
BEGIN:STANDARD
TZOFFSETFROM:-0500
TZOFFSETTO:-0600
TZNAME:CST
DTSTART:20251102T070000
END:STANDARD
END:VTIMEZONE
BEGIN:VEVENT
DTSTART;TZID=America/Chicago:20240314T183000
DTEND;TZID=America/Chicago:20240314T203000
DTSTAMP:20260421T154446
CREATED:20230918T225959Z
LAST-MODIFIED:20230922T201918Z
UID:10000215-1710441000-1710448200@stormmtb.org
SUMMARY:STORM - Thursday Evening Group Ride
DESCRIPTION:For more info on ride location and to RSVP\, please visit:\nhttps://www.meetup.com/MTB-San-Antonio-Mountain-Biking \nCancellations will be through the Meetup.com group\, so please RSVP. \n*** Rain or less optimal trail conditions will cancel the event *** \nMeet at 6:00pm\, wheels down at 6:30pm. All skill levels are welcome. This is a no-drop ride. (No-drop ride = Be prepared to start and complete the ride\, but you won’t be left behind.) \n***HELMET REQUIRED*** LIGHTS REQUIRED if ride extends past sunset. \n10-plus mile ride. About a 2-3 hour ride. Route may vary. \nThis will be a combined ride in partnership w/ South Texas Off-Road Mountain-Bike (STORM (https://www.facebook.com/groups/stormmtb/))https://www.facebook.com/groups/stormmtb/)). \n\nBe considerate – if you feel it is not in the best interest of your health or the health of others to ride\, please stay home.\nA trail-worthy bike can help limit the need for others crowding around to assist with on-trail bike repair. (Things happen\, and not all situations can be avoided\, but please do your part to make sure your bike is in proper working order before the ride.)\nRSVP! We may have limited ride leads\, and to ensure an enjoyable ride while maintaining social distance\, we are breaking the ride down into smaller groups. We may not be able to accommodate a large number of riders who do not RSVP. Please remove your RSVP for others to join if you cannot make the ride.\nPlease comment or respond to RSVP questions as to the pace of the ride you feel comfortable with so we can break out the groups appropriately.
URL:https://stormmtb.org/event/storm-thursday-evening-group-ride-10
LOCATION:OP Schnabel Park\, 9606 Bandera Rd\, San Antonio\, 78250
CATEGORIES:STORM Adult Rides
ATTACH;FMTTYPE=image/jpeg:https://stormmtb.org/wp-content/uploads/Logos/STORM/STORM_Logo-Full-Name_C-LB-scaled.jpg
ORGANIZER;CN="Erik Hernandez":MAILTO:erik.hernandez@stormmtb.org
END:VEVENT
BEGIN:VEVENT
DTSTART;TZID=America/Chicago:20231202T080000
DTEND;TZID=America/Chicago:20231202T120000
DTSTAMP:20260421T154446
CREATED:20231113T195350Z
LAST-MODIFIED:20231130T173348Z
UID:10000250-1701504000-1701518400@stormmtb.org
SUMMARY:Let's Ride! Leon Creek
DESCRIPTION:https://www.saspeakup.com/HH6508 \n\n\n\nLet’s Ride! Leon Creek\n\n\n\n\n\n\nJoin our Bike Network Team as we ride within the City’s HWP Trails: you can join us and start from O.P. Schnabel Park trailhead or from Cathedral Rock Park trailhead.\n\nHow do YOU move? \n\nWhether you walk\, drive a car\, ride a bike or use public transit\, San Antonio’s Transportation Department is dedicated to creating a safe and equitable multimodal transportation system for all communities in San Antonio. You can be a part of our strategic planning\, safety education\, and accessible infrastructure implementation. Help us as we develop a Bike Network Plan to accommodate our transportation needs in the 21st century! Ya sea que camine\, conduzca un automóvil\, ande en bicicleta o utilice el transporte público\, el Departamento de Transporte de San Antonio se dedica a crear un sistema de transporte multimodal seguro y equitativo para todas las comunidades. Puede ser parte de nuestra planificación estratégica\, educación sobre seguridad e implementación de infraestructura accesible. Ayúdenos a desarrollar un Plan de red de bicicletas para satisfacer nuestras necesidades de transporte en el siglo XXI.​
URL:https://stormmtb.org/event/lets-ride-leon-creek
LOCATION:OP Schnabel Park\, 9606 Bandera Rd\, San Antonio\, 78250
CATEGORIES:Ride
ATTACH;FMTTYPE=image/jpeg:https://stormmtb.org/wp-content/uploads/2023/07/sa.gov-default.jpg
END:VEVENT
BEGIN:VEVENT
DTSTART;TZID=America/Chicago:20231102T183000
DTEND;TZID=America/Chicago:20231102T203000
DTSTAMP:20260421T154446
CREATED:20230922T042053Z
LAST-MODIFIED:20230922T194313Z
UID:10000187-1698949800-1698957000@stormmtb.org
SUMMARY:STORM - Thursday Evening Group Ride
DESCRIPTION:For more info on ride location and to RSVP\, please visit:\nhttps://www.meetup.com/MTB-San-Antonio-Mountain-Biking \nCancellations will be through the Meetup.com group\, so please RSVP. \n*** Rain or less optimal trail conditions will cancel the event *** \nMeet at 6:00pm\, wheels down at 6:30pm. All skill levels are welcome. This is a no-drop ride. (No-drop ride = Be prepared to start and complete the ride\, but you won’t be left behind.) \n***HELMET REQUIRED*** LIGHTS REQUIRED if ride extends past sunset. \n10-plus mile ride. About a 2-3 hour ride. Route may vary. \nThis will be a combined ride in partnership w/ South Texas Off-Road Mountain-Bike (STORM (https://www.facebook.com/groups/stormmtb/))https://www.facebook.com/groups/stormmtb/)). \n\nBe considerate – if you feel it is not in the best interest of your health or the health of others to ride\, please stay home.\nA trail-worthy bike can help limit the need for others crowding around to assist with on-trail bike repair. (Things happen\, and not all situations can be avoided\, but please do your part to make sure your bike is in proper working order before the ride.)\nRSVP! We may have limited ride leads\, and to ensure an enjoyable ride while maintaining social distance\, we are breaking the ride down into smaller groups. We may not be able to accommodate a large number of riders who do not RSVP. Please remove your RSVP for others to join if you cannot make the ride.\nPlease comment or respond to RSVP questions as to the pace of the ride you feel comfortable with so we can break out the groups appropriately.
URL:https://stormmtb.org/event/storm-thursday-evening-group-ride-19
LOCATION:OP Schnabel Park\, 9606 Bandera Rd\, San Antonio\, 78250
ATTACH;FMTTYPE=image/jpeg:https://stormmtb.org/wp-content/uploads/2023/06/STORM_Logo-Full-Name_C-LB-scaled.jpg
ORGANIZER;CN="Erik Hernandez":MAILTO:erik.hernandez@stormmtb.org
END:VEVENT
BEGIN:VEVENT
DTSTART;TZID=America/Chicago:20231026T183000
DTEND;TZID=America/Chicago:20231026T203000
DTSTAMP:20260421T154446
CREATED:20230922T041034Z
LAST-MODIFIED:20230922T042126Z
UID:10000184-1698345000-1698352200@stormmtb.org
SUMMARY:STORM - Thursday Evening Group Ride
DESCRIPTION:For more info on ride location and to RSVP\, please visit:\nhttps://www.meetup.com/MTB-San-Antonio-Mountain-Biking \nCancellations will be through the Meetup.com group\, so please RSVP. \n*** Rain or less optimal trail conditions will cancel the event *** \nMeet at 6:00pm\, wheels down at 6:30pm. All skill levels are welcome. This is a no-drop ride. (No-drop ride = Be prepared to start and complete the ride\, but you won’t be left behind.) \n***HELMET REQUIRED*** LIGHTS REQUIRED if ride extends past sunset. \n10-plus mile ride. About a 2-3 hour ride. Route may vary. \nThis will be a combined ride in partnership w/ South Texas Off-Road Mountain-Bike (STORM (https://www.facebook.com/groups/stormmtb/))https://www.facebook.com/groups/stormmtb/)). \n\nBe considerate – if you feel it is not in the best interest of your health or the health of others to ride\, please stay home.\nA trail-worthy bike can help limit the need for others crowding around to assist with on-trail bike repair. (Things happen\, and not all situations can be avoided\, but please do your part to make sure your bike is in proper working order before the ride.)\nRSVP! We may have limited ride leads\, and to ensure an enjoyable ride while maintaining social distance\, we are breaking the ride down into smaller groups. We may not be able to accommodate a large number of riders who do not RSVP. Please remove your RSVP for others to join if you cannot make the ride.\nPlease comment or respond to RSVP questions as to the pace of the ride you feel comfortable with so we can break out the groups appropriately.\n\n“
URL:https://stormmtb.org/event/storm-thursday-evening-group-ride-18
LOCATION:OP Schnabel Park\, 9606 Bandera Rd\, San Antonio\, 78250
CATEGORIES:STORM Adult Rides
ATTACH;FMTTYPE=image/jpeg:https://stormmtb.org/wp-content/uploads/2023/06/STORM_Logo-Full-Name_C-LB-scaled.jpg
ORGANIZER;CN="Erik Hernandez":MAILTO:erik.hernandez@stormmtb.org
END:VEVENT
BEGIN:VEVENT
DTSTART;TZID=America/Chicago:20231019T183000
DTEND;TZID=America/Chicago:20231019T203000
DTSTAMP:20260421T154446
CREATED:20230922T040850Z
LAST-MODIFIED:20230922T042138Z
UID:10000182-1697740200-1697747400@stormmtb.org
SUMMARY:STORM - Thursday Evening Group Ride
DESCRIPTION:For more info on ride location and to RSVP\, please visit:\nhttps://www.meetup.com/MTB-San-Antonio-Mountain-Biking \nCancellations will be through the Meetup.com group\, so please RSVP. \n*** Rain or less optimal trail conditions will cancel the event *** \nMeet at 6:00pm\, wheels down at 6:30pm. All skill levels are welcome. This is a no-drop ride. (No-drop ride = Be prepared to start and complete the ride\, but you won’t be left behind.) \n***HELMET REQUIRED*** LIGHTS REQUIRED if ride extends past sunset. \n10-plus mile ride. About a 2-3 hour ride. Route may vary. \nThis will be a combined ride in partnership w/ South Texas Off-Road Mountain-Bike (STORM (https://www.facebook.com/groups/stormmtb/))https://www.facebook.com/groups/stormmtb/)). \n\nBe considerate – if you feel it is not in the best interest of your health or the health of others to ride\, please stay home.\nA trail-worthy bike can help limit the need for others crowding around to assist with on-trail bike repair. (Things happen\, and not all situations can be avoided\, but please do your part to make sure your bike is in proper working order before the ride.)\nRSVP! We may have limited ride leads\, and to ensure an enjoyable ride while maintaining social distance\, we are breaking the ride down into smaller groups. We may not be able to accommodate a large number of riders who do not RSVP. Please remove your RSVP for others to join if you cannot make the ride.\nPlease comment or respond to RSVP questions as to the pace of the ride you feel comfortable with so we can break out the groups appropriately.
URL:https://stormmtb.org/event/storm-thursday-evening-group-ride-17
LOCATION:OP Schnabel Park\, 9606 Bandera Rd\, San Antonio\, 78250
CATEGORIES:STORM Adult Rides
ATTACH;FMTTYPE=image/jpeg:https://stormmtb.org/wp-content/uploads/2023/06/STORM_Logo-Full-Name_C-LB-scaled.jpg
ORGANIZER;CN="Erik Hernandez":MAILTO:erik.hernandez@stormmtb.org
END:VEVENT
BEGIN:VEVENT
DTSTART;TZID=America/Chicago:20231012T183000
DTEND;TZID=America/Chicago:20231012T203000
DTSTAMP:20260421T154446
CREATED:20230922T040729Z
LAST-MODIFIED:20230922T042146Z
UID:10000181-1697135400-1697142600@stormmtb.org
SUMMARY:STORM - Thursday Evening Group Ride
DESCRIPTION:For more info on ride location and to RSVP\, please visit:\nhttps://www.meetup.com/MTB-San-Antonio-Mountain-Biking \nCancellations will be through the Meetup.com group\, so please RSVP. \n*** Rain or less optimal trail conditions will cancel the event *** \nMeet at 6:00pm\, wheels down at 6:30pm. All skill levels are welcome. This is a no-drop ride. (No-drop ride = Be prepared to start and complete the ride\, but you won’t be left behind.) \n***HELMET REQUIRED*** LIGHTS REQUIRED if ride extends past sunset. \n10-plus mile ride. About a 2-3 hour ride. Route may vary. \nThis will be a combined ride in partnership w/ South Texas Off-Road Mountain-Bike (STORM (https://www.facebook.com/groups/stormmtb/))https://www.facebook.com/groups/stormmtb/)). \n\nBe considerate – if you feel it is not in the best interest of your health or the health of others to ride\, please stay home.\nA trail-worthy bike can help limit the need for others crowding around to assist with on-trail bike repair. (Things happen\, and not all situations can be avoided\, but please do your part to make sure your bike is in proper working order before the ride.)\nRSVP! We may have limited ride leads\, and to ensure an enjoyable ride while maintaining social distance\, we are breaking the ride down into smaller groups. We may not be able to accommodate a large number of riders who do not RSVP. Please remove your RSVP for others to join if you cannot make the ride.\nPlease comment or respond to RSVP questions as to the pace of the ride you feel comfortable with so we can break out the groups appropriately.
URL:https://stormmtb.org/event/storm-thursday-evening-group-ride-16
LOCATION:OP Schnabel Park\, 9606 Bandera Rd\, San Antonio\, 78250
CATEGORIES:STORM Adult Rides
ATTACH;FMTTYPE=image/jpeg:https://stormmtb.org/wp-content/uploads/2023/06/STORM_Logo-Full-Name_C-LB-scaled.jpg
ORGANIZER;CN="Erik Hernandez":MAILTO:erik.hernandez@stormmtb.org
END:VEVENT
BEGIN:VEVENT
DTSTART;TZID=America/Chicago:20231005T183000
DTEND;TZID=America/Chicago:20231005T203000
DTSTAMP:20260421T154446
CREATED:20230922T040257Z
LAST-MODIFIED:20230922T042157Z
UID:10000179-1696530600-1696537800@stormmtb.org
SUMMARY:STORM - Thursday Evening Group Ride
DESCRIPTION:For more info on ride location and to RSVP\, please visit:\nhttps://www.meetup.com/MTB-San-Antonio-Mountain-Biking \nCancellations will be through the Meetup.com group\, so please RSVP. \n*** Rain or less optimal trail conditions will cancel the event *** \nMeet at 6:00pm\, wheels down at 6:30pm. All skill levels are welcome. This is a no-drop ride. (No-drop ride = Be prepared to start and complete the ride\, but you won’t be left behind.) \n***HELMET REQUIRED*** LIGHTS REQUIRED if ride extends past sunset. \n10-plus mile ride. About a 2-3 hour ride. Route may vary. \nThis will be a combined ride in partnership w/ South Texas Off-Road Mountain-Bike (STORM (https://www.facebook.com/groups/stormmtb/))https://www.facebook.com/groups/stormmtb/)). \n\nBe considerate – if you feel it is not in the best interest of your health or the health of others to ride\, please stay home.\nA trail-worthy bike can help limit the need for others crowding around to assist with on-trail bike repair. (Things happen\, and not all situations can be avoided\, but please do your part to make sure your bike is in proper working order before the ride.)\nRSVP! We may have limited ride leads\, and to ensure an enjoyable ride while maintaining social distance\, we are breaking the ride down into smaller groups. We may not be able to accommodate a large number of riders who do not RSVP. Please remove your RSVP for others to join if you cannot make the ride.\nPlease comment or respond to RSVP questions as to the pace of the ride you feel comfortable with so we can break out the groups appropriately.\n\n“
URL:https://stormmtb.org/event/storm-thursday-evening-group-ride-15
LOCATION:OP Schnabel Park\, 9606 Bandera Rd\, San Antonio\, 78250
CATEGORIES:STORM Adult Rides
ATTACH;FMTTYPE=image/jpeg:https://stormmtb.org/wp-content/uploads/2023/06/STORM_Logo-Full-Name_C-LB-scaled.jpg
ORGANIZER;CN="Erik Hernandez":MAILTO:erik.hernandez@stormmtb.org
END:VEVENT
BEGIN:VEVENT
DTSTART;TZID=America/Chicago:20230928T183000
DTEND;TZID=America/Chicago:20230928T203000
DTSTAMP:20260421T154446
CREATED:20230919T001500Z
LAST-MODIFIED:20230922T172410Z
UID:10000178-1695925800-1695933000@stormmtb.org
SUMMARY:STORM - Thursday Evening Group Ride
DESCRIPTION:For more info on ride location and to RSVP\, please visit:\nhttps://www.meetup.com/MTB-San-Antonio-Mountain-Biking \nCancellations will be through the Meetup.com group\, so please RSVP. \n*** Rain or less optimal trail conditions will cancel the event *** \nMeet at 6:00pm\, wheels down at 6:30pm. All skill levels are welcome. This is a no-drop ride. (No-drop ride = Be prepared to start and complete the ride\, but you won’t be left behind.) \n***HELMET REQUIRED*** LIGHTS REQUIRED if ride extends past sunset. \n10-plus mile ride. About a 2-3 hour ride. Route may vary. \nThis will be a combined ride in partnership w/ South Texas Off-Road Mountain-Bike (STORM (https://www.facebook.com/groups/stormmtb/))https://www.facebook.com/groups/stormmtb/)). \n\nBe considerate – if you feel it is not in the best interest of your health or the health of others to ride\, please stay home.\nA trail-worthy bike can help limit the need for others crowding around to assist with on-trail bike repair. (Things happen\, and not all situations can be avoided\, but please do your part to make sure your bike is in proper working order before the ride.)\nRSVP! We may have limited ride leads\, and to ensure an enjoyable ride while maintaining social distance\, we are breaking the ride down into smaller groups. We may not be able to accommodate a large number of riders who do not RSVP. Please remove your RSVP for others to join if you cannot make the ride.\nPlease comment or respond to RSVP questions as to the pace of the ride you feel comfortable with so we can break out the groups appropriately.\n\n“
URL:https://stormmtb.org/event/storm-thursday-evening-group-ride-14
LOCATION:OP Schnabel Park\, 9606 Bandera Rd\, San Antonio\, 78250
CATEGORIES:STORM Adult Rides
ATTACH;FMTTYPE=image/jpeg:https://stormmtb.org/wp-content/uploads/2023/06/STORM_Logo-Full-Name_C-LB-scaled.jpg
ORGANIZER;CN="Erik Hernandez":MAILTO:erik.hernandez@stormmtb.org
END:VEVENT
BEGIN:VEVENT
DTSTART;TZID=America/Chicago:20230921T183000
DTEND;TZID=America/Chicago:20230921T203000
DTSTAMP:20260421T154446
CREATED:20230919T000923Z
LAST-MODIFIED:20230919T000928Z
UID:10000171-1695321000-1695328200@stormmtb.org
SUMMARY:STORM - Thursday Evening Group Ride
DESCRIPTION:For more info on ride location and to RSVP\, please visit:https://www.meetup.com/MTB-San-Antonio-Mountain-Biking \nCancellations will be through the Meetup.com group\, so please RSVP. \n*** Rain or less optimal trail conditions will cancel the event *** \nMeet at 6:00pm\, wheels down at 6:30pm. All skill levels are welcome. This is a no-drop ride. (No-drop ride = Be prepared to start and complete the ride\, but you won’t be left behind.) \n***HELMET REQUIRED*** LIGHTS REQUIRED if ride extends past sunset. \n10-plus mile ride. About a 2-3 hour ride. Route may vary. \nThis will be a combined ride in partnership w/ South Texas Off-Road Mountain-Bike (STORM (https://www.facebook.com/groups/stormmtb/))https://www.facebook.com/groups/stormmtb/)). \n\nBe considerate – if you feel it is not in the best interest of your health or the health of others to ride\, please stay home.\nA trail-worthy bike can help limit the need for others crowding around to assist with on-trail bike repair. (Things happen\, and not all situations can be avoided\, but please do your part to make sure your bike is in proper working order before the ride.)\nRSVP! We may have limited ride leads\, and to ensure an enjoyable ride while maintaining social distance\, we are breaking the ride down into smaller groups. We may not be able to accommodate a large number of riders who do not RSVP. Please remove your RSVP for others to join if you cannot make the ride.\nPlease comment or respond to RSVP questions as to the pace of the ride you feel comfortable with so we can break out the groups appropriately.\n\n“
URL:https://stormmtb.org/event/storm-thursday-evening-group-ride-12
LOCATION:OP Schnabel Park\, 9606 Bandera Rd\, San Antonio\, 78250
CATEGORIES:STORM Adult Rides
ATTACH;FMTTYPE=image/jpeg:https://stormmtb.org/wp-content/uploads/Logos/STORM/STORM_Logo-Full-Name_C-LB-scaled.jpg
ORGANIZER;CN="Erik Hernandez":MAILTO:erik.hernandez@stormmtb.org
END:VEVENT
BEGIN:VEVENT
DTSTART;TZID=America/Chicago:20230914T183000
DTEND;TZID=America/Chicago:20230914T203000
DTSTAMP:20260421T154446
CREATED:20230919T001319Z
LAST-MODIFIED:20230922T172532Z
UID:10000167-1694716200-1694723400@stormmtb.org
SUMMARY:STORM - Thursday Evening Group Ride
DESCRIPTION:For more info on ride location and to RSVP\, please visit:\nhttps://www.meetup.com/MTB-San-Antonio-Mountain-Biking \nCancellations will be through the Meetup.com group\, so please RSVP. \n*** Rain or less optimal trail conditions will cancel the event *** \nMeet at 6:00pm\, wheels down at 6:30pm. All skill levels are welcome. This is a no-drop ride. (No-drop ride = Be prepared to start and complete the ride\, but you won’t be left behind.) \n***HELMET REQUIRED*** LIGHTS REQUIRED if ride extends past sunset. \n10-plus mile ride. About a 2-3 hour ride. Route may vary. \nThis will be a combined ride in partnership w/ South Texas Off-Road Mountain-Bike (STORM (https://www.facebook.com/groups/stormmtb/))https://www.facebook.com/groups/stormmtb/)). \n\nBe considerate – if you feel it is not in the best interest of your health or the health of others to ride\, please stay home.\nA trail-worthy bike can help limit the need for others crowding around to assist with on-trail bike repair. (Things happen\, and not all situations can be avoided\, but please do your part to make sure your bike is in proper working order before the ride.)\nRSVP! We may have limited ride leads\, and to ensure an enjoyable ride while maintaining social distance\, we are breaking the ride down into smaller groups. We may not be able to accommodate a large number of riders who do not RSVP. Please remove your RSVP for others to join if you cannot make the ride.\nPlease comment or respond to RSVP questions as to the pace of the ride you feel comfortable with so we can break out the groups appropriately.\n\n“
URL:https://stormmtb.org/event/storm-thursday-evening-group-ride-13
LOCATION:OP Schnabel Park\, 9606 Bandera Rd\, San Antonio\, 78250
CATEGORIES:STORM Adult Rides
ATTACH;FMTTYPE=image/jpeg:https://stormmtb.org/wp-content/uploads/2023/06/STORM_Logo-Full-Name_C-LB-scaled.jpg
ORGANIZER;CN="Erik Hernandez":MAILTO:erik.hernandez@stormmtb.org
END:VEVENT
BEGIN:VEVENT
DTSTART;TZID=America/Chicago:20230907T183000
DTEND;TZID=America/Chicago:20230907T203000
DTSTAMP:20260421T154446
CREATED:20230918T234329Z
LAST-MODIFIED:20230922T042812Z
UID:10000162-1694111400-1694118600@stormmtb.org
SUMMARY:STORM - Thursday Evening Group Ride
DESCRIPTION:For more info on ride location and to RSVP\, please visit:\nhttps://www.meetup.com/MTB-San-Antonio-Mountain-Biking \nCancellations will be through the Meetup.com group\, so please RSVP. \n*** Rain or less optimal trail conditions will cancel the event *** \nMeet at 6:00pm\, wheels down at 6:30pm. All skill levels are welcome. This is a no-drop ride. (No-drop ride = Be prepared to start and complete the ride\, but you won’t be left behind.) \n***HELMET REQUIRED*** LIGHTS REQUIRED if ride extends past sunset. \n10-plus mile ride. About a 2-3 hour ride. Route may vary. \nThis will be a combined ride in partnership w/ South Texas Off-Road Mountain-Bike (STORM (https://www.facebook.com/groups/stormmtb/))https://www.facebook.com/groups/stormmtb/)). \n\nBe considerate – if you feel it is not in the best interest of your health or the health of others to ride\, please stay home.\nA trail-worthy bike can help limit the need for others crowding around to assist with on-trail bike repair. (Things happen\, and not all situations can be avoided\, but please do your part to make sure your bike is in proper working order before the ride.)\nRSVP! We may have limited ride leads\, and to ensure an enjoyable ride while maintaining social distance\, we are breaking the ride down into smaller groups. We may not be able to accommodate a large number of riders who do not RSVP. Please remove your RSVP for others to join if you cannot make the ride.\nPlease comment or respond to RSVP questions as to the pace of the ride you feel comfortable with so we can break out the groups appropriately.\n\n“
URL:https://stormmtb.org/event/storm-thursday-evening-group-ride-11
LOCATION:OP Schnabel Park\, 9606 Bandera Rd\, San Antonio\, 78250
CATEGORIES:STORM Adult Rides
ATTACH;FMTTYPE=image/jpeg:https://stormmtb.org/wp-content/uploads/Logos/STORM/STORM_Logo-Full-Name_C-LB-scaled.jpg
ORGANIZER;CN="Erik Hernandez":MAILTO:erik.hernandez@stormmtb.org
END:VEVENT
BEGIN:VEVENT
DTSTART;TZID=America/Chicago:20230831T183000
DTEND;TZID=America/Chicago:20230831T203000
DTSTAMP:20260421T154446
CREATED:20230801T081942Z
LAST-MODIFIED:20230919T002015Z
UID:10000018-1693506600-1693513800@stormmtb.org
SUMMARY:STORM - Thursday Evening Group Ride
DESCRIPTION:For more info on ride location and to RSVP\, please visit:https://www.meetup.com/MTB-San-Antonio-Mountain-Biking \nCancellations will be through the Meetup.com group\, so please RSVP. \n*** Rain or less optimal trail conditions will cancel the event *** \nMeet at 6:00pm\, wheels down at 6:30pm. All skill levels are welcome. This is a no-drop ride. (No-drop ride = Be prepared to start and complete the ride\, but you won’t be left behind.) \n***HELMET REQUIRED*** LIGHTS REQUIRED if ride extends past sunset. \n10-plus mile ride. About a 2-3 hour ride. Route may vary.This will be a combined ride in partnership w/ South Texas Off-Road Mountain-Bike (STORM (https://www.facebook.com/groups/stormmtb/))https://www.facebook.com/groups/stormmtb/)). \n\nBe considerate – if you feel it is not in the best interest of your health or the health of others to ride\, please stay home.\nA trail-worthy bike can help limit the need for others crowding around to assist with on-trail bike repair. (Things happen\, and not all situations can be avoided\, but please do your part to make sure your bike is in proper working order before the ride.)\nRSVP! We may have limited ride leads\, and to ensure an enjoyable ride while maintaining social distance\, we are breaking the ride down into smaller groups. We may not be able to accommodate a large number of riders who do not RSVP. Please remove your RSVP for others to join if you cannot make the ride.\nPlease comment or respond to RSVP questions as to the pace of the ride you feel comfortable with so we can break out the groups appropriately.\n\n  \n“
URL:https://stormmtb.org/event/storm-thursday-evening-group-ride-5
LOCATION:OP Schnabel Park\, 9606 Bandera Rd\, San Antonio\, 78250
CATEGORIES:STORM Adult Rides
ATTACH;FMTTYPE=image/jpeg:https://stormmtb.org/wp-content/uploads/2023/06/STORM_Logo-Full-Name_C-LB-scaled.jpg
END:VEVENT
BEGIN:VEVENT
DTSTART;TZID=America/Chicago:20230727T183000
DTEND;TZID=America/Chicago:20230727T203000
DTSTAMP:20260421T154446
CREATED:20230922T174148Z
LAST-MODIFIED:20230922T174148Z
UID:10000150-1690482600-1690489800@stormmtb.org
SUMMARY:STORM - Thursday Evening Group Ride
DESCRIPTION:For more info on ride location and to RSVP\, please visit:\nhttps://www.meetup.com/MTB-San-Antonio-Mountain-Biking \nCancellations will be through the Meetup.com group\, so please RSVP. \n*** Rain or less optimal trail conditions will cancel the event *** \nMeet at 6:00pm\, wheels down at 6:30pm. All skill levels are welcome. This is a no-drop ride. (No-drop ride = Be prepared to start and complete the ride\, but you won’t be left behind.) \n***HELMET REQUIRED*** LIGHTS REQUIRED if ride extends past sunset. \n10-plus mile ride. About a 2-3 hour ride. Route may vary. \nThis will be a combined ride in partnership w/ South Texas Off Road Mountain-Bikers (STORM (https://www.facebook.com/groups/stormmtb/))https://www.facebook.com/groups/stormmtb/)). \n\nBe considerate – if you feel it is not in the best interest of your health or the health of others to ride\, please stay home.\nA trail-worthy bike can help limit the need for others crowding around to assist with on-trail bike repair. (Things happen\, and not all situations can be avoided\, but please do your part to make sure your bike is in proper working order before the ride.)\nRSVP! We may have limited ride leads\, and to ensure an enjoyable ride while maintaining social distance\, we are breaking the ride down into smaller groups. We may not be able to accommodate a large number of riders who do not RSVP. Please remove your RSVP for others to join if you cannot make the ride.\nPlease comment or respond to RSVP questions as to the pace of the ride you feel comfortable with so we can break out the groups appropriately.\n\n“
URL:https://stormmtb.org/event/storm-thursday-evening-group-ride-20
LOCATION:OP Schnabel Park\, 9606 Bandera Rd\, San Antonio\, 78250
CATEGORIES:STORM Adult Rides
ATTACH;FMTTYPE=image/jpeg:https://stormmtb.org/wp-content/uploads/2023/06/STORM_Logo-Full-Name_C-LB-scaled.jpg
ORGANIZER;CN="Erik Hernandez":MAILTO:erik.hernandez@stormmtb.org
END:VEVENT
END:VCALENDAR