BEGIN:VCALENDAR
VERSION:2.0
PRODID:-//South Texas Off Road Mountain-Bikers - ECPv6.15.20//NONSGML v1.0//EN
CALSCALE:GREGORIAN
METHOD:PUBLISH
X-ORIGINAL-URL:https://stormmtb.org
X-WR-CALDESC:Events for South Texas Off Road Mountain-Bikers
REFRESH-INTERVAL;VALUE=DURATION:PT1H
X-Robots-Tag:noindex
X-PUBLISHED-TTL:PT1H
BEGIN:VTIMEZONE
TZID:America/Chicago
BEGIN:DAYLIGHT
TZOFFSETFROM:-0600
TZOFFSETTO:-0500
TZNAME:CDT
DTSTART:20240310T080000
END:DAYLIGHT
BEGIN:STANDARD
TZOFFSETFROM:-0500
TZOFFSETTO:-0600
TZNAME:CST
DTSTART:20241103T070000
END:STANDARD
BEGIN:DAYLIGHT
TZOFFSETFROM:-0600
TZOFFSETTO:-0500
TZNAME:CDT
DTSTART:20250309T080000
END:DAYLIGHT
BEGIN:STANDARD
TZOFFSETFROM:-0500
TZOFFSETTO:-0600
TZNAME:CST
DTSTART:20251102T070000
END:STANDARD
BEGIN:DAYLIGHT
TZOFFSETFROM:-0600
TZOFFSETTO:-0500
TZNAME:CDT
DTSTART:20260308T080000
END:DAYLIGHT
BEGIN:STANDARD
TZOFFSETFROM:-0500
TZOFFSETTO:-0600
TZNAME:CST
DTSTART:20261101T070000
END:STANDARD
END:VTIMEZONE
BEGIN:VEVENT
DTSTART;TZID=America/Chicago:20251201T173000
DTEND;TZID=America/Chicago:20251201T193000
DTSTAMP:20260421T144223
CREATED:20250506T210705Z
LAST-MODIFIED:20251124T220150Z
UID:10000505-1764610200-1764617400@stormmtb.org
SUMMARY:Parks and Recreation Board Meeting
DESCRIPTION:https://www.saspeakup.com/P5411 \nThe Parks and Recreation Board serves in an advisory capacity to the community on issues affecting the Parks and Recreation Department. The Board shall\, as the voice of the community\, advise the Parks and Recreation Department and City Council regarding community recreational facilities and services\, needs and desires\, and recreation programming. The Board shall promote public awareness of the public recreational facilities and services provided by the City and encourage community participation in those programs. \nThe Board is composed of 11 voting members each serving a two-year term (there is no limit to the number of terms that may be served) and two non-voting members. Each City Council district and the Mayor have an appointee within this Board. A quorum of six voting members is required to conduct business on the Board’s agenda. \nMeetings are held on the fourth Monday of every other month at 5:30 p.m. in the City Tower Concourse Conference Room A\, 100 W. Houston. \nLiaison: Cynthia Uribe – 210-207-8482.
URL:https://stormmtb.org/event/parks-and-recreation-board-meeting-6
LOCATION:City Tower Concourse Conference Room A\, 100 W. Houston\, San Antonio\, TX\, 78205\, United States
CATEGORIES:Parks and Recreation Board Meeting,Public Information Meeting
ATTACH;FMTTYPE=image/jpeg:https://stormmtb.org/wp-content/uploads/2023/07/sa.gov-default.jpg
END:VEVENT
BEGIN:VEVENT
DTSTART;TZID=America/Chicago:20251209T180000
DTEND;TZID=America/Chicago:20251209T193000
DTSTAMP:20260421T144223
CREATED:20250506T210316Z
LAST-MODIFIED:20251124T220230Z
UID:10000501-1765303200-1765308600@stormmtb.org
SUMMARY:Linear Creekway Parks Advisory Board (LCPAB) Meeting
DESCRIPTION:https://www.saspeakup.com/V3413 \nThe Linear Creekway Parks Advisory Board (LCPAB) serves in an advisory capacity to staff and City Council regarding land acquisitions\, project design\, and construction for a hike and bike trail system along San Antonio creekways using sales tax initiative funding and proposed 2022 Bond funding. The board is also tasked with oversight of long-range management and construction activities for recreation purposes on creeks and tributaries within the City of San Antonio. \nThe LCPAB is composed of 11 members that each serve two-year terms. The Board has representatives from the City Council district and the Mayor. \nUnless otherwise posted\, meetings are typically held on the last Tuesday of every month at 6:00 p.m. at the Granados Adult and Senior Center located at 500 Frieling Drive.
URL:https://stormmtb.org/event/linear-creekway-parks-advisory-board-lcpab-meeting-11
LOCATION:Granados Adult & Senior Center\, 500 Freiling\, San Antonio\, TX\, 78213\, United States
CATEGORIES:Linear Creekway Parks Advisory Board Meeting,Public Information Meeting
ATTACH;FMTTYPE=image/jpeg:https://stormmtb.org/wp-content/uploads/2023/07/sa.gov-default.jpg
END:VEVENT
BEGIN:VEVENT
DTSTART;TZID=America/Chicago:20251230T180000
DTEND;TZID=America/Chicago:20251230T193000
DTSTAMP:20260421T144223
CREATED:20250506T210425Z
LAST-MODIFIED:20250506T210425Z
UID:10000502-1767117600-1767123000@stormmtb.org
SUMMARY:Linear Creekway Parks Advisory Board (LCPAB) Meeting
DESCRIPTION:https://www.saspeakup.com/V3413 \nThe Linear Creekway Parks Advisory Board (LCPAB) serves in an advisory capacity to staff and City Council regarding land acquisitions\, project design\, and construction for a hike and bike trail system along San Antonio creekways using sales tax initiative funding and proposed 2022 Bond funding. The board is also tasked with oversight of long-range management and construction activities for recreation purposes on creeks and tributaries within the City of San Antonio. \nThe LCPAB is composed of 11 members that each serve two-year terms. The Board has representatives from the City Council district and the Mayor. \nUnless otherwise posted\, meetings are typically held on the last Tuesday of every month at 6:00 p.m. at the Granados Adult and Senior Center located at 500 Frieling Drive.
URL:https://stormmtb.org/event/linear-creekway-parks-advisory-board-lcpab-meeting-12
LOCATION:Granados Adult & Senior Center\, 500 Freiling\, San Antonio\, TX\, 78213\, United States
CATEGORIES:Linear Creekway Parks Advisory Board Meeting,Public Information Meeting
ATTACH;FMTTYPE=image/jpeg:https://stormmtb.org/wp-content/uploads/2023/07/sa.gov-default.jpg
END:VEVENT
END:VCALENDAR