BEGIN:VCALENDAR
VERSION:2.0
PRODID:-//South Texas Off Road Mountain-Bikers - ECPv6.15.20//NONSGML v1.0//EN
CALSCALE:GREGORIAN
METHOD:PUBLISH
X-WR-CALNAME:South Texas Off Road Mountain-Bikers
X-ORIGINAL-URL:https://stormmtb.org
X-WR-CALDESC:Events for South Texas Off Road Mountain-Bikers
REFRESH-INTERVAL;VALUE=DURATION:PT1H
X-Robots-Tag:noindex
X-PUBLISHED-TTL:PT1H
BEGIN:VTIMEZONE
TZID:America/Chicago
BEGIN:DAYLIGHT
TZOFFSETFROM:-0600
TZOFFSETTO:-0500
TZNAME:CDT
DTSTART:20220313T080000
END:DAYLIGHT
BEGIN:STANDARD
TZOFFSETFROM:-0500
TZOFFSETTO:-0600
TZNAME:CST
DTSTART:20221106T070000
END:STANDARD
BEGIN:DAYLIGHT
TZOFFSETFROM:-0600
TZOFFSETTO:-0500
TZNAME:CDT
DTSTART:20230312T080000
END:DAYLIGHT
BEGIN:STANDARD
TZOFFSETFROM:-0500
TZOFFSETTO:-0600
TZNAME:CST
DTSTART:20231105T070000
END:STANDARD
BEGIN:DAYLIGHT
TZOFFSETFROM:-0600
TZOFFSETTO:-0500
TZNAME:CDT
DTSTART:20240310T080000
END:DAYLIGHT
BEGIN:STANDARD
TZOFFSETFROM:-0500
TZOFFSETTO:-0600
TZNAME:CST
DTSTART:20241103T070000
END:STANDARD
END:VTIMEZONE
BEGIN:VTIMEZONE
TZID:UTC
BEGIN:STANDARD
TZOFFSETFROM:+0000
TZOFFSETTO:+0000
TZNAME:UTC
DTSTART:20220101T000000
END:STANDARD
END:VTIMEZONE
BEGIN:VEVENT
DTSTART;TZID=America/Chicago:20230823T183000
DTEND;TZID=America/Chicago:20230823T200000
DTSTAMP:20260421T211156
CREATED:20230801T080314Z
LAST-MODIFIED:20230922T175029Z
UID:10000013-1692815400-1692820800@stormmtb.org
SUMMARY:Rebel Betties Wednesday Social Ride
DESCRIPTION:Event by Annie Paxton Tutoki and Rebel Betties – Women’s Mountain Biking \nDETAILS\nLocation: McAllister Pump Track (https://goo.gl/maps/kewznMhjMHvJY99k7)\nTime: 6:30pm\nDuration: 1 hr 30 min\nGroup: Members of Rebel Betties – Women’s Mountain Biking \nJoin us for a social mountain bike ride through McAllister Park. \nAll skill levels are welcome. This is a no-drop ride\, and the ride’s speed will be based on the group. The route will vary from week to week. Meet\, ride\, and socialize with other ladies in the mountain biking community. \nWe will have several groups riding at different paces and skill levels. \nPlease be on time. We will meet at 6:30pm to sign waivers and discuss the group ride. We will depart to start our social group ride no later than 6:45pm. \n**Please bring lights as the ride will end as it gets dark** \nRide leaders will provide instruction on any feature in the park or any skill you struggle with. This is a great and free opportunity to practice and learn new skills on the trail. Bonus – you might find new MTB friends! \nPlease bring: \n\nA mountain bike in working order\nA helmet is required: your safety is our priority\nLight attached to your bike or helmet\nWater/snacks\n\nPlease RSVP on the FB event here Rebel Betties – Women’s Mountain Biking
URL:https://stormmtb.org/event/rebel-betties-wednesday-social-ride-4
LOCATION:McAllister Park Pump Track\, Buckhorn Road\, San Antonio\, TX\, 78247\, United States
CATEGORIES:STORM Rebel Betties
END:VEVENT
BEGIN:VEVENT
DTSTART;TZID=America/Chicago:20230817T183000
DTEND;TZID=America/Chicago:20230817T203000
DTSTAMP:20260421T211156
CREATED:20230801T080057Z
LAST-MODIFIED:20230918T234255Z
UID:10000012-1692297000-1692304200@stormmtb.org
SUMMARY:STORM - Thursday Evening Group Ride
DESCRIPTION:For more info on ride location and to RSVP\, please visit:https://www.meetup.com/MTB-San-Antonio-Mountain-Biking \nCancellations will be through the Meetup.com group\, so please RSVP. \n*** Rain or less optimal trail conditions will cancel the event *** \nMeet at 6:00pm\, wheels down at 6:30pm. All skill levels are welcome. This is a no-drop ride. (No-drop ride = Be prepared to start and complete the ride\, but you won’t be left behind.) \n***HELMET REQUIRED*** LIGHTS REQUIRED if ride extends past sunset. \n10-plus mile ride. About a 2-3 hour ride. Route may vary. \nThis will be a combined ride in partnership w/ South Texas Off-Road Mountain-Bike (STORM (https://www.facebook.com/groups/stormmtb/))https://www.facebook.com/groups/stormmtb/)). \n\nBe considerate – if you feel it is not in the best interest of your health or the health of others to ride\, please stay home.\nA trail-worthy bike can help limit the need for others crowding around to assist with on-trail bike repair. (Things happen\, and not all situations can be avoided\, but please do your part to make sure your bike is in proper working order before the ride.)\nRSVP! We may have limited ride leads\, and to ensure an enjoyable ride while maintaining social distance\, we are breaking the ride down into smaller groups. We may not be able to accommodate a large number of riders who do not RSVP. Please remove your RSVP for others to join if you cannot make the ride.\nPlease comment or respond to RSVP questions as to the pace of the ride you feel comfortable with so we can break out the groups appropriately.\n\n“
URL:https://stormmtb.org/event/storm-thursday-evening-group-ride-3
LOCATION:TX
CATEGORIES:STORM Adult Rides
ATTACH;FMTTYPE=image/jpeg:https://stormmtb.org/wp-content/uploads/2023/06/STORM_Logo-Full-Name_C-LB-scaled.jpg
END:VEVENT
BEGIN:VEVENT
DTSTART;TZID=America/Chicago:20230816T183000
DTEND;TZID=America/Chicago:20230816T200000
DTSTAMP:20260421T211156
CREATED:20230801T075831Z
LAST-MODIFIED:20230922T175140Z
UID:10000011-1692210600-1692216000@stormmtb.org
SUMMARY:Rebel Betties Wednesday Social Ride
DESCRIPTION:Join us for a social mountain bike ride through McAllister Park. \nAll skill levels are welcome. This is a no-drop ride\, and the ride’s speed will be based on the group. The route will vary from week to week. Meet\, ride\, and socialize with other ladies in the mountain biking community. \nWe will have several groups riding at different paces and skill levels. \nPlease be on time. We will meet at 6:30pm to sign waivers and discuss the group ride. We will depart to start our social group ride no later than 6:45pm. \n**Please bring lights as the ride will end as it gets dark** \nRide leaders will provide instruction on any feature in the park or any skill you struggle with. This is a great and free opportunity to practice and learn new skills on the trail. Bonus – you might find new MTB friends! \nPlease bring: \n\nA mountain bike in working order\nA helmet is required: your safety is our priority\nLight attached to your bike or helmet\nWater/snacks\n\nPlease RSVP on the FB event here Rebel Betties – Women’s Mountain Biking
URL:https://stormmtb.org/event/rebel-betties-wednesday-social-ride-3
LOCATION:McAllister Park Pump Track\, Buckhorn Road\, San Antonio\, TX\, 78247\, United States
CATEGORIES:STORM Rebel Betties
END:VEVENT
BEGIN:VEVENT
DTSTART;TZID=America/Chicago:20230810T183000
DTEND;TZID=America/Chicago:20230810T203000
DTSTAMP:20260421T211156
CREATED:20230801T074526Z
LAST-MODIFIED:20230918T234255Z
UID:10000010-1691692200-1691699400@stormmtb.org
SUMMARY:STORM - Thursday Evening Group Ride
DESCRIPTION:For more info on ride location and to RSVP\, please visit:https://www.meetup.com/MTB-San-Antonio-Mountain-Biking \nCancellations will be through the Meetup.com group\, so please RSVP. \n*** Rain or less optimal trail conditions will cancel the event *** \nMeet at 6:00pm\, wheels down at 6:30pm. All skill levels are welcome. This is a no-drop ride. (No-drop ride = Be prepared to start and complete the ride\, but you won’t be left behind.) \n***HELMET REQUIRED*** LIGHTS REQUIRED if ride extends past sunset. \n10-plus mile ride. About a 2-3 hour ride. Route may vary. \nThis will be a combined ride in partnership w/ South Texas Off-Road Mountain-Bike (STORM (https://www.facebook.com/groups/stormmtb/))https://www.facebook.com/groups/stormmtb/)). \n\nBe considerate – if you feel it is not in the best interest of your health or the health of others to ride\, please stay home.\nA trail-worthy bike can help limit the need for others crowding around to assist with on-trail bike repair. (Things happen\, and not all situations can be avoided\, but please do your part to make sure your bike is in proper working order before the ride.)\nRSVP! We may have limited ride leads\, and to ensure an enjoyable ride while maintaining social distance\, we are breaking the ride down into smaller groups. We may not be able to accommodate a large number of riders who do not RSVP. Please remove your RSVP for others to join if you cannot make the ride.\nPlease comment or respond to RSVP questions as to the pace of the ride you feel comfortable with so we can break out the groups appropriately.\n\n“
URL:https://stormmtb.org/event/storm-thursday-evening-group-ride-2
LOCATION:TX
CATEGORIES:STORM Adult Rides
ATTACH;FMTTYPE=image/jpeg:https://stormmtb.org/wp-content/uploads/2023/06/STORM_Logo-Full-Name_C-LB-scaled.jpg
END:VEVENT
BEGIN:VEVENT
DTSTART;TZID=America/Chicago:20230809T183000
DTEND;TZID=America/Chicago:20230809T200000
DTSTAMP:20260421T211156
CREATED:20230801T074259Z
LAST-MODIFIED:20230922T174604Z
UID:10000009-1691605800-1691611200@stormmtb.org
SUMMARY:Rebel Betties Wednesday Social Ride
DESCRIPTION:Join us for a social mountain bike ride through McAllister Park. \nAll skill levels are welcome. This is a no-drop ride\, and the ride’s speed will be based on the group. The route will vary from week to week. Meet\, ride\, and socialize with other ladies in the mountain biking community. \nWe will have several groups riding at different paces and skill levels. \nPlease be on time. We will meet at 6:30pm to sign waivers and discuss the group ride. We will depart to start our social group ride no later than 6:45pm. \n**Please bring lights as the ride will end as it gets dark** \nRide leaders will provide instruction on any feature in the park or any skill you struggle with. This is a great and free opportunity to practice and learn new skills on the trail. Bonus – you might find new MTB friends! \nPlease bring: \n\nA mountain bike in working order\nA helmet is required: your safety is our priority\nLight attached to your bike or helmet\nWater/snacks\n\nPlease RSVP on the FB event here Rebel Betties – Women’s Mountain Biking
URL:https://stormmtb.org/event/rebel-betties-wednesday-social-ride-2
LOCATION:McAllister Park Pump Track\, Buckhorn Road\, San Antonio\, TX\, 78247\, United States
CATEGORIES:STORM Rebel Betties
END:VEVENT
BEGIN:VEVENT
DTSTART;TZID=America/Chicago:20230808T180000
DTEND;TZID=America/Chicago:20230808T200000
DTSTAMP:20260421T211156
CREATED:20230801T074113Z
LAST-MODIFIED:20230922T174425Z
UID:10000008-1691517600-1691524800@stormmtb.org
SUMMARY:French Creek Greenway - Public Input Meeting
DESCRIPTION:Learn about and give input on the French Greek Greenway connecting OP Schnabel Park to Loop 1604. For more information\, please contact Samuel Sanchez at samuel.sanchez@sanantonio.gov
URL:https://stormmtb.org/event/public-meeting-french-creek-greenway
LOCATION:YMCA at O.P. Schnabel Park\, 9606 Bandera Rd\, San Antonio\, TX\, 78250\, United States
CATEGORIES:Public Input Meeting
ATTACH;FMTTYPE=image/jpeg:https://stormmtb.org/wp-content/uploads/2023/07/sa.gov-default.jpg
END:VEVENT
BEGIN:VEVENT
DTSTART;TZID=America/Chicago:20230806T070000
DTEND;TZID=America/Chicago:20230806T120000
DTSTAMP:20260421T211156
CREATED:20230801T073655Z
LAST-MODIFIED:20230922T174813Z
UID:10000007-1691305200-1691323200@stormmtb.org
SUMMARY:SAKOB Summer Series - Race #4 - Mud Creek
DESCRIPTION:Register\nSAKOB Summer Series – Race 4 Mud Creek Online Registration (bikereg.com)
URL:https://stormmtb.org/event/sakob-summer-series-race-4-mud-creek
LOCATION:McAllister Park Pump Track\, Buckhorn Road\, San Antonio\, TX\, 78247\, United States
CATEGORIES:Race
ATTACH;FMTTYPE=image/jpeg:https://stormmtb.org/wp-content/uploads/2023/08/00898ad7-88bb-4002-8d5f-57643a3bf9ce.jpg
END:VEVENT
BEGIN:VEVENT
DTSTART;TZID=America/Chicago:20230805T090000
DTEND;TZID=America/Chicago:20230805T113000
DTSTAMP:20260421T211156
CREATED:20230801T073343Z
LAST-MODIFIED:20230922T173402Z
UID:10000006-1691226000-1691235000@stormmtb.org
SUMMARY:STORM Kids Ride
DESCRIPTION:We will pre-ride the SAKOB – San Antonio Kids on Bikes Mud Creek Race 12 and Under course at the STORM Kids ride tomorrow. Depending on who shows up\, we may ride a shorter\, easier loop first. We are also collecting school supply donations as part of the San Antonio Cycling School Supply Drive. \n\n\n#STORMKidsMTB \nSouth Texas Off Road Mountain-Bikers (STORM) hosts this free monthly kid’s ride on the dirt trails at McAllister Park. This is a great opportunity for parents and children to get out on the dirt trails and see how fun mountain biking can be. Kids will learn basic trail skills and trail etiquette during this introduction to trail riding. Participants will meet large parking lot near the McAllister Park Pump Track (https://goo.gl/maps/dYmf2uTzXKHgf9p7A)\, and the event will last from 9:00-11:30am. \nWhat to bring:\nRequired:\n– Bicycle\n– Helmet\n– Closed-toe shoes \nRecommended:\n– Sunglasses\n– Gloves\n– Water\n– Sunscreen \nThis event is “weather permitting” to protect the trail system. Updates and cancellations will be posted on the “STORM South Texas Off Road Mountain-Bikers” Facebook page and on the STORM website events page (https://stormmtb.org/events-calendar). \nParents or accompanying adults must sign a liability waiver for themselves and their child before the ride and may accompany their child on the ride.”
URL:https://stormmtb.org/event/storm-kids-ride
LOCATION:McAllister Park Pump Track\, Buckhorn Road\, San Antonio\, TX\, 78247\, United States
CATEGORIES:STORM Kids
ATTACH;FMTTYPE=image/jpeg:https://stormmtb.org/wp-content/uploads/Logos/STORM_Kids/STORM_Logo-Kids_C-LB-scaled.jpg
ORGANIZER;CN="Jeff Jordan":MAILTO:president@stormmtb.org
END:VEVENT
BEGIN:VEVENT
DTSTART;TZID=UTC:20230803T183000
DTEND;TZID=UTC:20230803T200000
DTSTAMP:20260421T211156
CREATED:20230801T072630Z
LAST-MODIFIED:20230801T072630Z
UID:10000005-1691087400-1691092800@stormmtb.org
SUMMARY:STORM - Thursday Evening Group Ride
DESCRIPTION:STORM – Thursday Evening Group Ride \nAugust 3\, 2023  6:30 pm – 8:30 pm\nVaries \n\n\nFor more info on ride location and to RSVP\, please visit:\nhttps://www.meetup.com/MTB-San-Antonio-Mountain-Biking \nCancellations will be through the Meetup.com group\, so please RSVP. \n*** Rain or less optimal trail conditions will cancel the event *** \nMeet at 6:00pm\, wheels down at 6:30pm. All skill levels are welcome. This is a no-drop ride. (No-drop ride = Be prepared to start and complete the ride\, but you won’t be left behind.) \n***HELMET REQUIRED*** LIGHTS REQUIRED if ride extends past sunset. \n10-plus mile ride. About a 2-3 hour ride. Route may vary. \nThis will be a combined ride in partnership w/ South Texas Off-Road Mountain-Bike (STORM (https://www.facebook.com/groups/stormmtb/))https://www.facebook.com/groups/stormmtb/)). \n\nBe considerate – if you feel it is not in the best interest of your health or the health of others to ride\, please stay home.\nA trail-worthy bike can help limit the need for others crowding around to assist with on-trail bike repair. (Things happen\, and not all situations can be avoided\, but please do your part to make sure your bike is in proper working order before the ride.)\nRSVP! We may have limited ride leads\, and to ensure an enjoyable ride while maintaining social distance\, we are breaking the ride down into smaller groups. We may not be able to accommodate a large number of riders who do not RSVP. Please remove your RSVP for others to join if you cannot make the ride.\nPlease comment or respond to RSVP questions as to the pace of the ride you feel comfortable with so we can break out the groups appropriately.\n\n  \n\n\nSee more details
URL:https://stormmtb.org/event/storm-thursday-evening-group-ride
LOCATION:TX
ATTACH;FMTTYPE=image/jpeg:https://stormmtb.org/wp-content/uploads/2023/06/STORM_Logo-Full-Name_C-LB-scaled.jpg
END:VEVENT
BEGIN:VEVENT
DTSTART;TZID=America/Chicago:20230802T183000
DTEND;TZID=America/Chicago:20230802T200000
DTSTAMP:20260421T211156
CREATED:20230801T072109Z
LAST-MODIFIED:20230919T000243Z
UID:10000004-1691001000-1691006400@stormmtb.org
SUMMARY:Rebel Betties Wednesday Social Ride
DESCRIPTION:Event by Annie Paxton Tutoki and Rebel Betties – Women’s Mountain Biking \nDETAILSLocation: McAllister Pump Track (https://goo.gl/maps/kewznMhjMHvJY99k7)Time: 6:30pmDuration: 1 hr 30 min Group: Members of Rebel Betties – Women’s Mountain Biking  \nJoin us for a social mountain bike ride through McAllister Park. \nAll skill levels are welcome. This is a no-drop ride\, and the ride’s speed will be based on the group. The route will vary from week to week. Meet\, ride\, and socialize with other ladies in the mountain biking community. \nWe will have several groups riding at different paces and skill levels. \nPlease be on time. We will meet at 6:30pm to sign waivers and discuss the group ride. We will depart to start our social group ride no later than 6:45pm. \n**Please bring lights as the ride will end as it gets dark** \nRide leaders will provide instruction on any feature in the park or any skill you struggle with. This is a great and free opportunity to practice and learn new skills on the trail. Bonus – you might find new MTB friends! \nPlease bring: \n\nA mountain bike in working order\nA helmet is required: your safety is our priority\nLight attached to your bike or helmet\nWater/snacks\n\nPlease RSVP on the FB event here Rebel Betties – Women’s Mountain Biking
URL:https://stormmtb.org/event/rebel-betties-wednesday-social-ride
LOCATION:McAllister Park Pump Track\, Buckhorn Road\, San Antonio\, TX\, 78247\, United States
END:VEVENT
BEGIN:VEVENT
DTSTART;TZID=America/Chicago:20230802T183000
DTEND;TZID=America/Chicago:20230802T200000
DTSTAMP:20260421T211156
CREATED:20230801T071612Z
LAST-MODIFIED:20230922T173811Z
UID:10000003-1691001000-1691006400@stormmtb.org
SUMMARY:Pearsall Park - Public Input Meeting
DESCRIPTION:https://www.saspeakup.com/NK8285 \nPublic Works needs your Input! \nThe City of San Antonio through Public Works\, Parks and Recreation and the Council District Office 4\, would like you to participate in a community involvement meeting to assist in determining a potential scope of work for Pearsall Park. \nProject Scope: Construct general Park improvements and development within available funding in support of the Park’s Master plan which may inlcude lighting\, shade enhancements\, recreational improvements\, and park connectivity. “
URL:https://stormmtb.org/event/pearsall-park-public-input-meeting
LOCATION:Hillside Acres Clubhouse\, 8110 Clegg Drive\, San Antonio\, TX\, 78241\, United States
CATEGORIES:Public Input Meeting
ATTACH;FMTTYPE=image/jpeg:https://stormmtb.org/wp-content/uploads/2023/07/sa.gov-default.jpg
END:VEVENT
BEGIN:VEVENT
DTSTART;TZID=America/Chicago:20230801T180000
DTEND;TZID=America/Chicago:20230801T200000
DTSTAMP:20260421T211156
CREATED:20230730T081129Z
LAST-MODIFIED:20230922T173732Z
UID:10000002-1690912800-1690920000@stormmtb.org
SUMMARY:Beitel Creek: Perrin Homestead to LBJ Park Trail Project - Public Input Meeting
DESCRIPTION:Public Meeting – Beitel Creek: Perrin Homestead to LBJ Park Trail Project – PublicInput (saspeakup.com) \nJoin us to discuss and provide input on the proposed Greenway Trail from Lady Bird Johnson Park to Perrin Homestead. For more information\, please contact Laura Parker at laura.parker@sanantonio.gov. \nIf you require Spanish or ASL translation services\, please notify us 48 hours in advance of the meeting.
URL:https://stormmtb.org/event/467
LOCATION:Hamilton Community Center\, 10700 Nacogdoches Rd\, San Antonio\, TX\, 78217\, United States
CATEGORIES:Public Input Meeting
ATTACH;FMTTYPE=image/jpeg:https://stormmtb.org/wp-content/uploads/2023/07/sa.gov-default.jpg
END:VEVENT
BEGIN:VEVENT
DTSTART;TZID=America/Chicago:20230727T183000
DTEND;TZID=America/Chicago:20230727T203000
DTSTAMP:20260421T211156
CREATED:20230922T174148Z
LAST-MODIFIED:20230922T174148Z
UID:10000150-1690482600-1690489800@stormmtb.org
SUMMARY:STORM - Thursday Evening Group Ride
DESCRIPTION:For more info on ride location and to RSVP\, please visit:\nhttps://www.meetup.com/MTB-San-Antonio-Mountain-Biking \nCancellations will be through the Meetup.com group\, so please RSVP. \n*** Rain or less optimal trail conditions will cancel the event *** \nMeet at 6:00pm\, wheels down at 6:30pm. All skill levels are welcome. This is a no-drop ride. (No-drop ride = Be prepared to start and complete the ride\, but you won’t be left behind.) \n***HELMET REQUIRED*** LIGHTS REQUIRED if ride extends past sunset. \n10-plus mile ride. About a 2-3 hour ride. Route may vary. \nThis will be a combined ride in partnership w/ South Texas Off Road Mountain-Bikers (STORM (https://www.facebook.com/groups/stormmtb/))https://www.facebook.com/groups/stormmtb/)). \n\nBe considerate – if you feel it is not in the best interest of your health or the health of others to ride\, please stay home.\nA trail-worthy bike can help limit the need for others crowding around to assist with on-trail bike repair. (Things happen\, and not all situations can be avoided\, but please do your part to make sure your bike is in proper working order before the ride.)\nRSVP! We may have limited ride leads\, and to ensure an enjoyable ride while maintaining social distance\, we are breaking the ride down into smaller groups. We may not be able to accommodate a large number of riders who do not RSVP. Please remove your RSVP for others to join if you cannot make the ride.\nPlease comment or respond to RSVP questions as to the pace of the ride you feel comfortable with so we can break out the groups appropriately.\n\n“
URL:https://stormmtb.org/event/storm-thursday-evening-group-ride-20
LOCATION:OP Schnabel Park\, 9606 Bandera Rd\, San Antonio\, 78250
CATEGORIES:STORM Adult Rides
ATTACH;FMTTYPE=image/jpeg:https://stormmtb.org/wp-content/uploads/2023/06/STORM_Logo-Full-Name_C-LB-scaled.jpg
ORGANIZER;CN="Erik Hernandez":MAILTO:erik.hernandez@stormmtb.org
END:VEVENT
BEGIN:VEVENT
DTSTART;TZID=America/Chicago:20230716T070000
DTEND;TZID=America/Chicago:20230716T120000
DTSTAMP:20260421T211156
CREATED:20230922T172802Z
LAST-MODIFIED:20230922T172802Z
UID:10000141-1689490800-1689508800@stormmtb.org
SUMMARY:SAKOB Summer Series - Race #3 - Dances with Trees
DESCRIPTION:Register\nSAKOB Summer Series – Race 3 Dances with Trees Online Registration (bikereg.com)
URL:https://stormmtb.org/event/sakob-summer-series-race-3-dances-with-trees
LOCATION:McAllister Park Pump Track\, Buckhorn Road\, San Antonio\, TX\, 78247\, United States
ATTACH;FMTTYPE=image/jpeg:https://stormmtb.org/wp-content/uploads/2023/08/00898ad7-88bb-4002-8d5f-57643a3bf9ce.jpg
END:VEVENT
END:VCALENDAR