BEGIN:VCALENDAR
VERSION:2.0
PRODID:-//South Texas Off Road Mountain-Bikers - ECPv6.15.20//NONSGML v1.0//EN
CALSCALE:GREGORIAN
METHOD:PUBLISH
X-ORIGINAL-URL:https://stormmtb.org
X-WR-CALDESC:Events for South Texas Off Road Mountain-Bikers
REFRESH-INTERVAL;VALUE=DURATION:PT1H
X-Robots-Tag:noindex
X-PUBLISHED-TTL:PT1H
BEGIN:VTIMEZONE
TZID:America/Chicago
BEGIN:DAYLIGHT
TZOFFSETFROM:-0600
TZOFFSETTO:-0500
TZNAME:CDT
DTSTART:20250309T080000
END:DAYLIGHT
BEGIN:STANDARD
TZOFFSETFROM:-0500
TZOFFSETTO:-0600
TZNAME:CST
DTSTART:20251102T070000
END:STANDARD
BEGIN:DAYLIGHT
TZOFFSETFROM:-0600
TZOFFSETTO:-0500
TZNAME:CDT
DTSTART:20260308T080000
END:DAYLIGHT
BEGIN:STANDARD
TZOFFSETFROM:-0500
TZOFFSETTO:-0600
TZNAME:CST
DTSTART:20261101T070000
END:STANDARD
BEGIN:DAYLIGHT
TZOFFSETFROM:-0600
TZOFFSETTO:-0500
TZNAME:CDT
DTSTART:20270314T080000
END:DAYLIGHT
BEGIN:STANDARD
TZOFFSETFROM:-0500
TZOFFSETTO:-0600
TZNAME:CST
DTSTART:20271107T070000
END:STANDARD
END:VTIMEZONE
BEGIN:VEVENT
DTSTART;TZID=America/Chicago:20260103T090000
DTEND;TZID=America/Chicago:20260103T130000
DTSTAMP:20260421T144055
CREATED:20251231T220244Z
LAST-MODIFIED:20260118T172217Z
UID:10000548-1767430800-1767445200@stormmtb.org
SUMMARY:Flat Rock Ranch PayDirt Day
DESCRIPTION:2026 Flat Rock Ranch PayDirt Days\nhttps://www.flatrockranchtx.com/paydirt \nSaturday\, Jan 3\, 2026\nSaturday\, Jan 10\, 2026\nSaturday\, Jan 17\, 2026\nSaturday\, Feb 14\, 2026\nSaturday\, Mar 7\, 2026\nSaturday\, Mar 28\, 2026\nSaturday\, Apr 4\, 2026 \nHow it Works\nWorkdays will start at 9 a.m. We plan to work for approximately 4 hours; we do have most of the required tools\, but you can bring your own. We plan to do trail maintenance where the little rocks have grown back during riding season. If enough volunteers show up\, we may build a berm or two. We are planning a few reroutes to improve trail flow. We’ll provide lunch afterward\, and ride the trail later. \nRemember\, if you work\, you ride free on the workday. Work at least 5 hours and ride free till the TMBRA cross-country race. Work at least 10 hours for a free Daily Season Pass. Work at least 15 hours for a free Season Family Pass. \nMore Info\nYou may assign a significant other to perform your race volunteer work; call for details. You must log your hours. We offer primitive camping with hot-water showers for those coming from far away. \nCheck the TMBRA and STORM websites for other dates\, directions\, and information. Arrangements can be made in advance for working on dates other than the posted Pay Dirt dates.
URL:https://stormmtb.org/event/flat-rock-ranch-paydirt-day-4/2026-01-03
LOCATION:Flat Rock Ranch\, 346 Flat Rock Creek Rd\, Comfort\, TX\, 78013\, United States
CATEGORIES:Trailwork,Volunteer Event
ATTACH;FMTTYPE=image/jpeg:https://stormmtb.org/wp-content/uploads/Partners/FlatRockRanch/FlatRockRanch_logo.jpg
END:VEVENT
BEGIN:VEVENT
DTSTART;TZID=America/Chicago:20260110T090000
DTEND;TZID=America/Chicago:20260110T130000
DTSTAMP:20260421T144055
CREATED:20251231T220244Z
LAST-MODIFIED:20260118T172217Z
UID:10000549-1768035600-1768050000@stormmtb.org
SUMMARY:Flat Rock Ranch PayDirt Day
DESCRIPTION:2026 Flat Rock Ranch PayDirt Days\nhttps://www.flatrockranchtx.com/paydirt \nSaturday\, Jan 3\, 2026\nSaturday\, Jan 10\, 2026\nSaturday\, Jan 17\, 2026\nSaturday\, Feb 14\, 2026\nSaturday\, Mar 7\, 2026\nSaturday\, Mar 28\, 2026\nSaturday\, Apr 4\, 2026 \nHow it Works\nWorkdays will start at 9 a.m. We plan to work for approximately 4 hours; we do have most of the required tools\, but you can bring your own. We plan to do trail maintenance where the little rocks have grown back during riding season. If enough volunteers show up\, we may build a berm or two. We are planning a few reroutes to improve trail flow. We’ll provide lunch afterward\, and ride the trail later. \nRemember\, if you work\, you ride free on the workday. Work at least 5 hours and ride free till the TMBRA cross-country race. Work at least 10 hours for a free Daily Season Pass. Work at least 15 hours for a free Season Family Pass. \nMore Info\nYou may assign a significant other to perform your race volunteer work; call for details. You must log your hours. We offer primitive camping with hot-water showers for those coming from far away. \nCheck the TMBRA and STORM websites for other dates\, directions\, and information. Arrangements can be made in advance for working on dates other than the posted Pay Dirt dates.
URL:https://stormmtb.org/event/flat-rock-ranch-paydirt-day-4/2026-01-10
LOCATION:Flat Rock Ranch\, 346 Flat Rock Creek Rd\, Comfort\, TX\, 78013\, United States
CATEGORIES:Trailwork,Volunteer Event
ATTACH;FMTTYPE=image/jpeg:https://stormmtb.org/wp-content/uploads/Partners/FlatRockRanch/FlatRockRanch_logo.jpg
END:VEVENT
BEGIN:VEVENT
DTSTART;TZID=America/Chicago:20260117T090000
DTEND;TZID=America/Chicago:20260117T130000
DTSTAMP:20260421T144055
CREATED:20251231T220244Z
LAST-MODIFIED:20260118T172217Z
UID:10000550-1768640400-1768654800@stormmtb.org
SUMMARY:Flat Rock Ranch PayDirt Day
DESCRIPTION:2026 Flat Rock Ranch PayDirt Days\nhttps://www.flatrockranchtx.com/paydirt \nSaturday\, Jan 3\, 2026\nSaturday\, Jan 10\, 2026\nSaturday\, Jan 17\, 2026\nSaturday\, Feb 14\, 2026\nSaturday\, Mar 7\, 2026\nSaturday\, Mar 28\, 2026\nSaturday\, Apr 4\, 2026 \nHow it Works\nWorkdays will start at 9 a.m. We plan to work for approximately 4 hours; we do have most of the required tools\, but you can bring your own. We plan to do trail maintenance where the little rocks have grown back during riding season. If enough volunteers show up\, we may build a berm or two. We are planning a few reroutes to improve trail flow. We’ll provide lunch afterward\, and ride the trail later. \nRemember\, if you work\, you ride free on the workday. Work at least 5 hours and ride free till the TMBRA cross-country race. Work at least 10 hours for a free Daily Season Pass. Work at least 15 hours for a free Season Family Pass. \nMore Info\nYou may assign a significant other to perform your race volunteer work; call for details. You must log your hours. We offer primitive camping with hot-water showers for those coming from far away. \nCheck the TMBRA and STORM websites for other dates\, directions\, and information. Arrangements can be made in advance for working on dates other than the posted Pay Dirt dates.
URL:https://stormmtb.org/event/flat-rock-ranch-paydirt-day-4/2026-01-17
LOCATION:Flat Rock Ranch\, 346 Flat Rock Creek Rd\, Comfort\, TX\, 78013\, United States
CATEGORIES:Trailwork,Volunteer Event
ATTACH;FMTTYPE=image/jpeg:https://stormmtb.org/wp-content/uploads/Partners/FlatRockRanch/FlatRockRanch_logo.jpg
END:VEVENT
BEGIN:VEVENT
DTSTART;TZID=America/Chicago:20260124T070000
DTEND;TZID=America/Chicago:20260124T140000
DTSTAMP:20260421T144055
CREATED:20251218T162956Z
LAST-MODIFIED:20251218T163258Z
UID:10000545-1769238000-1769263200@stormmtb.org
SUMMARY:STORM Miles of DisComfort MTB Marathon
DESCRIPTION:Think you got the legs for this one? Endurance is the name of the game as participants compete to finish two 20-mile laps at Flat Rock Ranch for some sweet singletrack goodness. Bring your climbing legs\, because there will be a lot of it! If that seems too much\, we also have a half-marathon category. The STORM Miles of DisComfort MTB Marathon is the final race of the 2025/26 Hill Country Bicycle Works Texas Marathon Mountain Bike State Championship Series. \nRace Info
URL:https://stormmtb.org/event/storm-miles-of-discomfort-mtb-marathon-3
LOCATION:Flat Rock Ranch\, 346 Flat Rock Creek Rd\, Comfort\, TX\, 78013\, United States
CATEGORIES:Public Event,Race,TMBRA,Volunteer Event
ATTACH;FMTTYPE=image/png:https://stormmtb.org/wp-content/uploads/Races/MilesOfDisComfortMarathon/2026/2026-STORM-Miles-of-DisComfort-revised.png
ORGANIZER;CN="Jeff Jordan":MAILTO:president@stormmtb.org
END:VEVENT
END:VCALENDAR